BEGIN:VCALENDAR
VERSION:2.0
PRODID:-//Taekwondo Szövetség - ECPv4.6.24//NONSGML v1.0//EN
CALSCALE:GREGORIAN
METHOD:PUBLISH
X-WR-CALNAME:Taekwondo Szövetség
X-ORIGINAL-URL:https://wtftaekwondo.hu
X-WR-CALDESC:Events for Taekwondo Szövetség
BEGIN:VEVENT
DTSTART;VALUE=DATE:20190316
DTEND;VALUE=DATE:20190318
DTSTAMP:20260421T083629
CREATED:20181229T101911Z
LAST-MODIFIED:20181229T101911Z
UID:15305-1552694400-1552867199@wtftaekwondo.hu
SUMMARY:Belgian Open 2019
DESCRIPTION:G2 \n
URL:https://wtftaekwondo.hu/event/belgian-open-2019/
LOCATION:Lommel\, Belgium
END:VEVENT
END:VCALENDAR