BEGIN:VCALENDAR
VERSION:2.0
PRODID:-//Taekwondo Szövetség - ECPv4.6.24//NONSGML v1.0//EN
CALSCALE:GREGORIAN
METHOD:PUBLISH
X-WR-CALNAME:Taekwondo Szövetség
X-ORIGINAL-URL:https://wtftaekwondo.hu
X-WR-CALDESC:Events for Taekwondo Szövetség
BEGIN:VEVENT
DTSTART;VALUE=DATE:20191020
DTEND;VALUE=DATE:20191021
DTSTAMP:20260425T123256
CREATED:20181229T104942Z
LAST-MODIFIED:20181229T104942Z
UID:15343-1571529600-1571615999@wtftaekwondo.hu
SUMMARY:Croatian Poomsae
DESCRIPTION:
URL:https://wtftaekwondo.hu/event/croatian-poomsae/
LOCATION:Zapresic\, Horvátország:
END:VEVENT
END:VCALENDAR