BEGIN:VCALENDAR
VERSION:2.0
PRODID:-//Taekwondo Szövetség - ECPv4.6.24//NONSGML v1.0//EN
CALSCALE:GREGORIAN
METHOD:PUBLISH
X-WR-CALNAME:Taekwondo Szövetség
X-ORIGINAL-URL:https://wtftaekwondo.hu
X-WR-CALDESC:Events for Taekwondo Szövetség
BEGIN:VEVENT
DTSTART;VALUE=DATE:20190330
DTEND;VALUE=DATE:20190401
DTSTAMP:20260423T123727
CREATED:20181229T102320Z
LAST-MODIFIED:20181229T102320Z
UID:15311-1553904000-1554076799@wtftaekwondo.hu
SUMMARY:German Open
DESCRIPTION:
URL:https://wtftaekwondo.hu/event/german-open/
LOCATION:Hamburg
END:VEVENT
END:VCALENDAR