BEGIN:VCALENDAR
VERSION:2.0
PRODID:-//Taekwondo Szövetség - ECPv4.6.24//NONSGML v1.0//EN
CALSCALE:GREGORIAN
METHOD:PUBLISH
X-WR-CALNAME:Taekwondo Szövetség
X-ORIGINAL-URL:https://wtftaekwondo.hu
X-WR-CALDESC:Events for Taekwondo Szövetség
BEGIN:VEVENT
DTSTART;VALUE=DATE:20190926
DTEND;VALUE=DATE:20190930
DTSTAMP:20260424T224714
CREATED:20190214T094054Z
LAST-MODIFIED:20190214T094054Z
UID:15510-1569456000-1569801599@wtftaekwondo.hu
SUMMARY:Junior Európa-bajnokság
DESCRIPTION:
URL:https://wtftaekwondo.hu/event/junior-europa-bajnoksag/
LOCATION:Marina D’or Sports Resorts\, Spanyolország
END:VEVENT
END:VCALENDAR