BEGIN:VCALENDAR
VERSION:2.0
PRODID:-//Taekwondo Szövetség - ECPv4.6.24//NONSGML v1.0//EN
CALSCALE:GREGORIAN
METHOD:PUBLISH
X-WR-CALNAME:Taekwondo Szövetség
X-ORIGINAL-URL:https://wtftaekwondo.hu
X-WR-CALDESC:Events for Taekwondo Szövetség
BEGIN:VEVENT
DTSTART;VALUE=DATE:20260523
DTEND;VALUE=DATE:20260525
DTSTAMP:20260426T023940
CREATED:20251230T212946Z
LAST-MODIFIED:20251230T212946Z
UID:21923-1779494400-1779667199@wtftaekwondo.hu
SUMMARY:Lux Open - G1
DESCRIPTION:
URL:https://wtftaekwondo.hu/event/lux-open-g1-2/
LOCATION:Luxembourg
END:VEVENT
END:VCALENDAR