BEGIN:VCALENDAR
VERSION:2.0
PRODID:-//Taekwondo Szövetség - ECPv4.6.24//NONSGML v1.0//EN
CALSCALE:GREGORIAN
METHOD:PUBLISH
X-WR-CALNAME:Taekwondo Szövetség
X-ORIGINAL-URL:https://wtftaekwondo.hu
X-WR-CALDESC:Events for Taekwondo Szövetség
BEGIN:VEVENT
DTSTART;VALUE=DATE:20190914
DTEND;VALUE=DATE:20190916
DTSTAMP:20260424T175140
CREATED:20181229T102908Z
LAST-MODIFIED:20181229T102908Z
UID:15325-1568419200-1568591999@wtftaekwondo.hu
SUMMARY:Polish Open
DESCRIPTION:G1 \n
URL:https://wtftaekwondo.hu/event/polish-open/
LOCATION:Varsó
END:VEVENT
END:VCALENDAR