BEGIN:VCALENDAR
VERSION:2.0
PRODID:-//Taekwondo Szövetség - ECPv4.6.24//NONSGML v1.0//EN
CALSCALE:GREGORIAN
METHOD:PUBLISH
X-WR-CALNAME:Taekwondo Szövetség
X-ORIGINAL-URL:https://wtftaekwondo.hu
X-WR-CALDESC:Events for Taekwondo Szövetség
BEGIN:VEVENT
DTSTART;VALUE=DATE:20190401
DTEND;VALUE=DATE:20190407
DTSTAMP:20260423T145135
CREATED:20190214T122123Z
LAST-MODIFIED:20190214T122123Z
UID:15514-1554076800-1554595199@wtftaekwondo.hu
SUMMARY:Poomsae Európa-bajnokság és Beach Poomsae Eb
DESCRIPTION:
URL:https://wtftaekwondo.hu/event/poomsae-europa-bajnoksag-es-beach-poomsae-eb/
LOCATION:Antalya
END:VEVENT
END:VCALENDAR