BEGIN:VCALENDAR
VERSION:2.0
PRODID:-//Taekwondo Szövetség - ECPv4.6.24//NONSGML v1.0//EN
CALSCALE:GREGORIAN
METHOD:PUBLISH
X-WR-CALNAME:Taekwondo Szövetség
X-ORIGINAL-URL:https://wtftaekwondo.hu
X-WR-CALDESC:Events for Taekwondo Szövetség
BEGIN:VEVENT
DTSTART;VALUE=DATE:20190414
DTEND;VALUE=DATE:20190415
DTSTAMP:20260423T215636
CREATED:20181229T094344Z
LAST-MODIFIED:20181230T205619Z
UID:15282-1555200000-1555286399@wtftaekwondo.hu
SUMMARY:Poomsae Országos Bajnokság
DESCRIPTION:
URL:https://wtftaekwondo.hu/event/poomsae-orszagos-bajnoksag/
LOCATION:Budapest
END:VEVENT
END:VCALENDAR