BEGIN:VCALENDAR
VERSION:2.0
PRODID:-//Taekwondo Szövetség - ECPv4.6.24//NONSGML v1.0//EN
CALSCALE:GREGORIAN
METHOD:PUBLISH
X-WR-CALNAME:Taekwondo Szövetség
X-ORIGINAL-URL:https://wtftaekwondo.hu
X-WR-CALDESC:Events for Taekwondo Szövetség
BEGIN:VEVENT
DTSTART;VALUE=DATE:20190926
DTEND;VALUE=DATE:20190930
DTSTAMP:20260424T211545
CREATED:20181229T103219Z
LAST-MODIFIED:20181229T103219Z
UID:15330-1569456000-1569801599@wtftaekwondo.hu
SUMMARY:Russia Open
DESCRIPTION:G1 \n
URL:https://wtftaekwondo.hu/event/russia-open/
END:VEVENT
END:VCALENDAR