BEGIN:VCALENDAR
VERSION:2.0
PRODID:-//Taekwondo Szövetség - ECPv4.6.24//NONSGML v1.0//EN
CALSCALE:GREGORIAN
METHOD:PUBLISH
X-WR-CALNAME:Taekwondo Szövetség
X-ORIGINAL-URL:https://wtftaekwondo.hu
X-WR-CALDESC:Events for Taekwondo Szövetség
BEGIN:VEVENT
DTSTART;VALUE=DATE:20190927
DTEND;VALUE=DATE:20190928
DTSTAMP:20260425T002417
CREATED:20181229T115116Z
LAST-MODIFIED:20181229T115116Z
UID:15391-1569542400-1569628799@wtftaekwondo.hu
SUMMARY:Tokió 2020 Olimpiai Tesztverseny
DESCRIPTION:G1 \n
URL:https://wtftaekwondo.hu/event/tokio-2020-olimpiai-tesztverseny/
LOCATION:Csiba\, Japán
END:VEVENT
END:VCALENDAR