BEGIN:VCALENDAR
VERSION:2.0
PRODID:-//Taekwondo Szövetség - ECPv4.6.24//NONSGML v1.0//EN
CALSCALE:GREGORIAN
METHOD:PUBLISH
X-WR-CALNAME:Taekwondo Szövetség
X-ORIGINAL-URL:https://wtftaekwondo.hu
X-WR-CALDESC:Events for Taekwondo Szövetség
BEGIN:VEVENT
DTSTART;VALUE=DATE:20190412
DTEND;VALUE=DATE:20190415
DTSTAMP:20260423T181852
CREATED:20181229T102522Z
LAST-MODIFIED:20181229T102522Z
UID:15313-1555027200-1555286399@wtftaekwondo.hu
SUMMARY:Ukraine Open
DESCRIPTION:
URL:https://wtftaekwondo.hu/event/ukraine-open/
LOCATION:Harkov\, Ukrajna
END:VEVENT
END:VCALENDAR