BEGIN:VCALENDAR
VERSION:2.0
PRODID:-//Taekwondo Szövetség - ECPv4.6.24//NONSGML v1.0//EN
CALSCALE:GREGORIAN
METHOD:PUBLISH
X-WR-CALNAME:Taekwondo Szövetség
X-ORIGINAL-URL:https://wtftaekwondo.hu
X-WR-CALDESC:Events for Taekwondo Szövetség
BEGIN:VEVENT
DTSTART;VALUE=DATE:20190823
DTEND;VALUE=DATE:20190826
DTSTAMP:20260424T143707
CREATED:20181229T114934Z
LAST-MODIFIED:20181229T114934Z
UID:15388-1566518400-1566777599@wtftaekwondo.hu
SUMMARY:World Taekwondo World Cup Team Championships
DESCRIPTION:G8 \n
URL:https://wtftaekwondo.hu/event/world-taekwondo-world-cup-team-championships/
LOCATION:Vuhszi\, Kína
END:VEVENT
END:VCALENDAR