BEGIN:VCALENDAR
VERSION:2.0
PRODID:-//Taekwondo Szövetség - ECPv4.6.24//NONSGML v1.0//EN
CALSCALE:GREGORIAN
METHOD:PUBLISH
X-WR-CALNAME:Taekwondo Szövetség
X-ORIGINAL-URL:https://wtftaekwondo.hu
X-WR-CALDESC:Events for Taekwondo Szövetség
BEGIN:VEVENT
DTSTART;VALUE=DATE:20190627
DTEND;VALUE=DATE:20190628
DTSTAMP:20260424T094414
CREATED:20181229T111855Z
LAST-MODIFIED:20181229T111855Z
UID:15377-1561593600-1561679999@wtftaekwondo.hu
SUMMARY:WT President's Cup - Óceánia
DESCRIPTION:G2 \n
URL:https://wtftaekwondo.hu/event/wt-presidents-cup-oceania/
LOCATION:Gold Coast\, Ausztrália
END:VEVENT
END:VCALENDAR